BEGIN:VCALENDAR
VERSION:2.0
PRODID:-//hacksw/handcal//NONSGML v1.0//EN
BEGIN:VEVENT
DTSTAMP:20170227T180000Z
DTSTART:20170227T180000Z
DTEND:20170227T180000Z
LOCATION:Ristorante Sorrento, Segeberger Straße 3-5, Stockelsdorf, 23617, Deutschland
SUMMARY:Jahreshauptversammlung des Gemeinnitzigen Bürgervereins Stockelsdorf
END:VEVENT
END:VCALENDAR
